BEGIN:VCALENDAR
VERSION:2.0
METHOD:PUBLISH
BEGIN:VEVENT
UID:WILD_APRICOT_EVENT_3584720_SESSION_1
DTSTART:20191107T120000Z
DTEND:20191110T120000Z
SUMMARY:November Party Hunt - Desert Rd
LOCATION:Desert Road\, Central North Island
DESCRIPTION:https://deerstalkers.co.nz/event-3584720\n\nRoad end hunt so you can bring all the home comforts.\n\nWe will probably establish camp off Kaimanawa Road.\n\nVariety of areas to hunt in adjacent Kaimanawa Forest Park and eastern side of Tongariro National Park.\n\nPermits required for both from DOC online\n\nPredominantly sika\, some reds. More specific details advised to registrants.
DTSTAMP:20260424T131916Z
END:VEVENT
END:VCALENDAR
