BEGIN:VCALENDAR
VERSION:2.0
METHOD:PUBLISH
BEGIN:VEVENT
UID:WILD_APRICOT_EVENT_3563332_SESSION_1
DTSTART:20191010T120000Z
DTEND:20191013T120000Z
SUMMARY:Tarawera: Party Hunt
LOCATION:Lake Tarawera
DESCRIPTION:https://deerstalkers.co.nz/event-3563332\n\n\nRed deer\, Sambar deer\, pigs and wallabies.\nWe will either camp at the outlet campsite or hot water beach\, a boat would be advantageous otherwise we will have a boat there to pick up and drop people off at hunting locations around the lake.\nThere is no vehicle access through the pines with firearms to the outlet campsite.\nAny questions please get in touch with either Callum or Courtney via the following\; callums@deerstalkers.co.nz & courtney@deerstalkers.co.nz
DTSTAMP:20260424T114636Z
END:VEVENT
END:VCALENDAR
