BEGIN:VCALENDAR
VERSION:2.0
METHOD:PUBLISH
BEGIN:VEVENT
UID:WILD_APRICOT_EVENT_3542689_SESSION_1
DTSTART:20190910T070000Z
DTEND:20190910T103000Z
SUMMARY:September Club Night - with guest Simon Walker\, SGW Knives
LOCATION:NZDA Auckland Club Rooms\, 7 Target St\, Pt Chev
DESCRIPTION:https://deerstalkers.co.nz/event-3542689\n\nSimon Walker is a keen outdoors-man and customer knife maker and leather worker based in Auckland\, producing hand made knives for real world use\, to the highest standards. \n  \n\n  You find out more about Simon from his website: www.sgwknives.com\n                                                               \n  See you all there!\n  We are in the process of finalizing the guest speakers for this year. So if you know anyone who has a good yarn please contact the committee at our email address auckland@deerstalkers.co.nz.\n
DTSTAMP:20260424T113338Z
END:VEVENT
END:VCALENDAR
