BEGIN:VCALENDAR
VERSION:2.0
METHOD:PUBLISH
BEGIN:VEVENT
UID:WILD_APRICOT_EVENT_3529016_SESSION_1
DTSTART:20190925T073000Z
DTEND:20190925T100000Z
SUMMARY:WORKSHOP - Rifle Selection\, Maintenance and Setup
LOCATION:NZDA Auckland Branch Club Rooms - 7 Target St\, Pt Chev
DESCRIPTION:https://deerstalkers.co.nz/event-3529016\n\nNZDA Auckland will be hosting a Workshop on Wednesday 25th September focusing on Rifles - covering selection\, maintenance and setup. This will very generously be run by our Range Convener Arthur Winterton and a few Range Officers and charged at $15 per person.\n  This event is aimed at those newer hunters\, or even those more experienced guys looking to make sure they are maintaining their own rifles as well as they should be.\n  Arthur will be covering Rifle selection\, Rifle maintenance and cleaning\, as well as Rifle setup in terms of scope mounting and sighting in.\n  Note: NO firearms are to be brought to the club rooms for this workshop - Arthur will be giving a demonstration using provided firearms in a controlled and safe manner - please do not bring your own firearm along\, leave that to your next range visit.\n  \n\n
DTSTAMP:20260424T114420Z
END:VEVENT
END:VCALENDAR
