BEGIN:VCALENDAR
VERSION:2.0
METHOD:PUBLISH
BEGIN:VEVENT
UID:WILD_APRICOT_EVENT_3440649_SESSION_1
DTSTART:20190611T070000Z
DTEND:20190611T103000Z
SUMMARY:June Club Night - With Guest Speaker Simon from SGW Knives
LOCATION:NZDA Auckland Club Rooms\, 7 Target St\, Pt Chev
DESCRIPTION:https://deerstalkers.co.nz/event-3440649\n\nOur June Club Night is just around the corner\, and this month we have Guest Speaker Simon of SGW Knives coming to give a demonstration and talk regarding all things sharp!\n  Simon has been making knives to some capacity for the past 30 years - he currently operates as a part time knife maker while also providing a knife and tool sharpening service out of West Auckland.\n  Simon will be giving a knife sharpening demo on the night\, showing off some of his creations and answering your questions about knives.  You can find out more info by checking out his website (https://www.sgwknives.com/) and Facebook page (https://www.facebook.com/SGW-Custom-Knives-155839481783400/)\n  Simon will be speaking first up to kick off our club night\, followed by our normal Club Night agenda. \n  See you all there!\n
DTSTAMP:20260424T114410Z
END:VEVENT
END:VCALENDAR
