BEGIN:VCALENDAR
VERSION:2.0
METHOD:PUBLISH
BEGIN:VEVENT
UID:WILD_APRICOT_EVENT_3424468_SESSION_1
DTSTART:20190628T053000Z
DTEND:20190628T053000Z
SUMMARY:2019 Antler\, Horn & Tusk Comp
LOCATION:7 Target St\, Point Chevalier\, Auckland
DESCRIPTION:https://deerstalkers.co.nz/event-3424468\n\nThe 2019 Antler Horn & Tusk Comp is right around the corner!\n  Been out hunting and secured a trophy or two? Come on down to the club room on the 28th June to see how you measure up! Perhaps you might even have a National worthy trophy and could be representing our Branch in Wellington at this years Nationals!\n  Last year we didn't do to bad\, who said city slickers can't win hunting comps\, aye? \n  Haven't secured a trophy? Not a worry\, come on down for a yarn and to see what the fuss is all about\, learn how heads are measured in the 'Douglas Score System' and get inspired for next year!\n      * Entry forms are in the BT.\n\n        * Please make sure all heads and clean and odor free.\n\n
DTSTAMP:20260424T132141Z
END:VEVENT
END:VCALENDAR
