BEGIN:VCALENDAR
VERSION:2.0
METHOD:PUBLISH
BEGIN:VEVENT
UID:WILD_APRICOT_EVENT_3387798_SESSION_1
DTSTART:20190514T070000Z
DTEND:20190514T100000Z
SUMMARY:May Club Night - Roar 2019
LOCATION:7 Target St\, Point Chevalier\, Auckland 1022
DESCRIPTION:https://deerstalkers.co.nz/event-3387798\n\n\n\n  The 2019 roar has been huge for the NZDA AKL branch\, with many members taking home some amazing trophies.\n  So if you have a great story or keen to hear a first hand account then get along to our club night. Open to the public (so don't be shy). Just register for the night and and get ready for a night of hunting related chat. \n  We are always on the look out for awesome guest speakers. So if you know anyone who has a good yarn please contact the committee at our email address auckland@deerstalkers.co.nz.\n
DTSTAMP:20260424T132315Z
END:VEVENT
END:VCALENDAR
