BEGIN:VCALENDAR
VERSION:2.0
METHOD:PUBLISH
BEGIN:VEVENT
UID:WILD_APRICOT_EVENT_3386022_SESSION_1
DTSTART:20190507T063000Z
DTEND:20190507T103000Z
SUMMARY:Auckland Shooting Club Night & Firearms Legislation Presentation
LOCATION:NZDA Auckland Branch Club Rooms - 7 Target St\, Pt Chev
DESCRIPTION:https://deerstalkers.co.nz/event-3386022\n\nAuckland Shooting Club will be hosting a Club Night at our Club Rooms on the 7th May 2019\, starting at 6:30PM.\n  They are organizing a presentation from Nick Taylor regarding the new firearms legislation\, and have kindly extended this invitation to our members.\n  Spots are limited to 60 NZDA members\, so please register early to secure a spot - the event is only open to those who have registered so please do so to avoid dissapointment.\n  \n\n
DTSTAMP:20260424T132421Z
END:VEVENT
END:VCALENDAR
