BEGIN:VCALENDAR
VERSION:2.0
METHOD:PUBLISH
BEGIN:VEVENT
UID:WILD_APRICOT_EVENT_3301788_SESSION_1
DTSTART:20190717T120000Z
DTEND:20190721T120000Z
SUMMARY:July Party Hunt. Urewera Fly in
LOCATION:Urewera
DESCRIPTION:https://deerstalkers.co.nz/event-3301788\n\n \n  JULY 18th – 21st\n   Urewera (Whakatane river catchment)\n  Fly in from Heli resources just outside of Murupara to various huts in Te Urewera\, huts are ex DOC huts (cooker etc will be needed)\n  Some areas are fly camping only with no hut. good numbers of Pigs\, Rusa deer and Red deer.\n  Cost $250 per person if there is 3 to a chopper or $750 for the chopper (based on last year) Max 3 people per hut/campsite.\n  This hunt allows for around 18 people max.\n   \n
DTSTAMP:20260424T114350Z
END:VEVENT
END:VCALENDAR
