BEGIN:VCALENDAR
VERSION:2.0
METHOD:PUBLISH
BEGIN:VEVENT
UID:WILD_APRICOT_EVENT_3294180_SESSION_1
DTSTART:20190530T120000Z
DTEND:20190602T120000Z
SUMMARY:Galatea road end
LOCATION:Galatea
DESCRIPTION:https://deerstalkers.co.nz/event-3294180\n\nRoad end hunt in galatea\, access to the Galatea foot hills\, Mainly Rusa deer and some reds\, get in quick to secure your bunk in the hut\, plenty of space for tents etc. .
DTSTAMP:20260424T114400Z
END:VEVENT
END:VCALENDAR
