BEGIN:VCALENDAR
VERSION:2.0
METHOD:PUBLISH
BEGIN:VEVENT
UID:WILD_APRICOT_EVENT_3293537_SESSION_1
DTSTART:20190704T070000Z
DTEND:20190704T100000Z
SUMMARY:WORKSHOP: Reloading
LOCATION:12 Newsome St\, Onehunga\, Auckland 1061
DESCRIPTION:https://deerstalkers.co.nz/event-3293537\n\nEver thought about getting into reloading but don't know where to start? Well you are in luck.\n\n  Scott Stonx and the team at Reloaders are opening the doors for a one night at their Onehunga shop to take us through the do's and don't's of reloading.\n  $20 per person. A $20 voucher will also be issued to each attendee\, to be spent on the night.\n  This is open to both NZDA members and the public. So if you have some mates who are keen on shooting inviting them along!\n  Reloaders may video the event\, to be chucked up on their awesome YouTube channel.  So make sure you wear your best bush shirt.\n  Reloaders channel: https://www.youtube.com/channel/UCKxyaHExTwxyTuQ87Sr64_w\n   \n\n  \n\n
DTSTAMP:20260424T132248Z
END:VEVENT
END:VCALENDAR
