BEGIN:VCALENDAR
VERSION:2.0
METHOD:PUBLISH
BEGIN:VEVENT
UID:WILD_APRICOT_EVENT_3272340_SESSION_1
DTSTART:20190306T060000Z
DTEND:20190306T090000Z
SUMMARY:Workshop: Sika Hunting 101 with Darrell Wong
LOCATION:7 Target St\, Pt Chev\, Auckland
DESCRIPTION:https://deerstalkers.co.nz/event-3272340\n\nSika hunting legend Darrell Wong is our clubs resident expert on hunting these elusive and challenging game animals.\n  Darrell has years of experience and done the hard yards learning the best techniques and gear to use secure your trophy of a lifetime! Save yourself some money and jump start your learning\, get some tips from a pro. Come along and learn from one of the best in the game.\n  This is hands on Q&A + Show and Tell on gear and techniques\n  Special thanks to Darrell for taking the time to pass along his experience.\n  "Some of the most practical\, logical hunting advice I've ever received - Dan"\n  Members are welcome to bring guests along.\n  \n\n
DTSTAMP:20260424T132746Z
END:VEVENT
END:VCALENDAR
