BEGIN:VCALENDAR
VERSION:2.0
METHOD:PUBLISH
BEGIN:VEVENT
UID:WILD_APRICOT_EVENT_3247605_SESSION_1
DTSTART:20190228T110000Z
DTEND:20190303T110000Z
SUMMARY:March Party Hunt. Clements Mill Road
LOCATION:Clements Mill Road. Taupo.
DESCRIPTION:https://deerstalkers.co.nz/event-3247605\n\nClements mill road Party Hunt. 1st to 3rd of March\n  This is a road end hunt\, with plenty of areas for everyone. Traveling down on Friday returning Sunday. (Taupo). There are multiple camp sites along the road where we can set up or you can choose to stay at sika lodge ($30 per person per night).  Target species - Sika \n  contact -  Brent -   brent@deerstalkers.co.nz \n   \n
DTSTAMP:20260424T132514Z
END:VEVENT
END:VCALENDAR
