BEGIN:VCALENDAR
VERSION:2.0
METHOD:PUBLISH
BEGIN:VEVENT
UID:WILD_APRICOT_EVENT_3236580_SESSION_1
DTSTART:20190212T060000Z
DTEND:20190212T090000Z
SUMMARY:February Club Night - Welcome Back!
LOCATION:7 Target St\, Point Chevalier\, Auckland 1022
DESCRIPTION:https://deerstalkers.co.nz/event-3236580\n\nWe are in full swing with Summer hunts\, fishing trips and family gatherings. So come along and catch up with fellow members\, grab a beer and plan that next hunt. \n  We have two awesome workshops coming up in Feb. Brent Neville's Head Skinning Workshop is back again on the 6th and the River Crossing workshop on the 16th. Make sure you lock in your spot and buy a ticket under 'events' on our website.\n  We also have 5x Shot Expo tickets to give away on the night. So make sure you register and sign your name at the door.\n  We are in the process of finalizing the guest speakers for this year. So if you know anyone who has a good yarn please contact the committee at our email address auckland@deerstalkers.co.nz.\n
DTSTAMP:20260424T113256Z
END:VEVENT
END:VCALENDAR
