BEGIN:VCALENDAR
VERSION:2.0
METHOD:PUBLISH
BEGIN:VEVENT
UID:WILD_APRICOT_EVENT_3127453_SESSION_1
DTSTART:20190808T120000Z
DTEND:20190811T120000Z
SUMMARY:Hamills Taupo ‘August Party Hunt’
LOCATION:Clements Mill Road
DESCRIPTION:https://deerstalkers.co.nz/event-3127453\n\n  \n\n  This party hunt is being sponsored by Hamills Taupo!\nAs part of this sponsorship Saran from Hamills will be supplying a BBQ dinner on Saturday evening\, based at Sika Lodge. Cheers Hamills!\n \n  The target species will be Red and Sika deer. This area is suitable for all levels of hunter from the total beginner to experienced.  It's August and getter colder so we have booked out Sika Lodge for a special price of $25 p.h\, per night. All you need to bring (outside of your hunting gear) are toiletries\, a sleeping bag and food for all meals apart from Saturday night.  Sika lodge has bunkhouse style accommodation\, fridge/freezers\, a communal lounge\, kitchen and of course an ablution block.  This party hunt only one place remaining\, so if you have registered please pay the $50 accommodation fee ASAP to guarantee yourself a spot.  \n  We will hold a briefing on the Friday night and allocate you your hunting areas and companions.  During this session we will discuss safety aspects\, your hunting area\, hunting techniques and you will need to complete an intentions summary.  This will be an open forum\, so bring any questions you might have.  Topo50 maps for the area are BH36 & BH37.  We strongly suggest each hunting party has a map\, in addition to a GPS.  \n  If you need any gear then check out hamillstaupo.co.nz. Saran will bring down any orders Friday night. \n  If you have any other questions\, drop Ross or James an email at at rwoon@deerstalkers.co.nz & jmckenzie@deerstalkers.co.nz \n  \n\n
DTSTAMP:20260424T113328Z
END:VEVENT
END:VCALENDAR
