BEGIN:VCALENDAR
VERSION:2.0
METHOD:PUBLISH
BEGIN:VEVENT
UID:WILD_APRICOT_EVENT_3073667_SESSION_1
DTSTART:20181009T063000Z
DTEND:20181009T090000Z
SUMMARY:October Club Night - The Wild Twins
LOCATION:7 Target road\, point chev
DESCRIPTION:https://deerstalkers.co.nz/event-3073667\n\nOctober Club night with The Wild Twins!\n \n Come along and meet the Kiwi twins who take on some of the world's most extreme adventures.\n \n Twin Sisters Amber and Serena Shine are keen adventurers\, to say the least. When they are not out there climbing mountains\, touring the Globe\, doing unique bone carvings or general adventure activities they're chasing deer   \n \n Check them out on Facebook to find out more!\n \n https://facebook.com/TheWildTwins/\n \n https://i.stuff.co.nz/travel/kiwi-traveller/104387248/Meet-the-Kiwi-twins-who-take-on-some-of-the-worlds-most-extreme-adventures
DTSTAMP:20260424T124259Z
END:VEVENT
END:VCALENDAR
