BEGIN:VCALENDAR
VERSION:2.0
METHOD:PUBLISH
BEGIN:VEVENT
UID:WILD_APRICOT_EVENT_3061126_SESSION_1
DTSTART:20180911T070000Z
DTEND:20180911T100000Z
SUMMARY:SEP CLUB NIGHT
LOCATION:6 Target Street Point Chev Auckland
DESCRIPTION:https://deerstalkers.co.nz/event-3061126\n\nWanna be around people who love promoting hunting in 🇳🇿? Then get along to our September club night.\n\nHere you will find like minded people who have amazing hunting chat. Also keep up to date with everything that is happening in the community.\n\nSo come along\, grab and sausage and a beer and get amoungst it!
DTSTAMP:20260424T124431Z
END:VEVENT
END:VCALENDAR
