BEGIN:VCALENDAR
VERSION:2.0
METHOD:PUBLISH
BEGIN:VEVENT
UID:WILD_APRICOT_EVENT_3041807_SESSION_1
DTSTART:20180908T203000Z
DTEND:20180909T043000Z
SUMMARY:The Sako Tikka prize shoot!
LOCATION:Forestry Rd\, Riverhead 0892
DESCRIPTION:https://deerstalkers.co.nz/event-3041807\n\nIts that time again team! NZDA Auckland is pleased to presents - The Sako Tikka prize shoot!\n  Come along with any CENTRE FIRE rifle and have a blast. There is a prize for every attendant including the kids. \n \n $25.00 Seniors. $10.00 Juniors. Open to ALL Shooters (so bring the whole family!)\n \n Registration starts at 8.30am and shooting will begin at 9.30am\n \n Now when we say any centre fire rifle we many ANY. Also juniors [u16 on the day] are allowed to use Rimfire Rifles ie 0.22LR\, 0.22Mag\, 0.17. \n \n If you are keen to donate a prize to the event then please send us a message via FB or drop James an email: jmckenzie@deerstalkers.co.nz\n\n
DTSTAMP:20260424T124239Z
END:VEVENT
END:VCALENDAR
