BEGIN:VCALENDAR
VERSION:2.0
METHOD:PUBLISH
BEGIN:VEVENT
UID:WILD_APRICOT_EVENT_3016359_SESSION_1
DTSTART:20180814T070000Z
DTEND:20180814T100000Z
SUMMARY:August club night and AGM
LOCATION:7 Target St\, Pt Chev\, Auckland
DESCRIPTION:https://deerstalkers.co.nz/event-3016359\n\nOur main prize event of the year\, a Tikka T3 with Burris Scope is up for grabs. Kindly donated by Beretta New Zealand.\n Members\, make sure you are in attendance on the night to be in with a chance to win!\n  We thank kindly the out going committee whom have worked tirelessly this past year to make the N.Z.D.A Auckland branch so great and look forward to welcoming in the new committee and some fresh faces to keep this great tradition and club alive!\n  \n\n  Notes to Guests\, or guests of members: Our club nights are open to the public\, this is a great opportunity to experience the club and see if you want to be part of the Auckland Deerstalkers community.\n\n  Please come along and introduce yourself to one of the clubs committee on the night as this is part of the application process.\n\n  If you know anyone who has a good yarn or would make for an interesting guest speaker please contact the committee at our email address auckland@deerstalkers.co.nz.\n\n\n
DTSTAMP:20260424T124249Z
END:VEVENT
END:VCALENDAR
