BEGIN:VCALENDAR
VERSION:2.0
METHOD:PUBLISH
BEGIN:VEVENT
UID:WILD_APRICOT_EVENT_3013998_SESSION_1
DTSTART:20180907T203000Z
DTEND:20180908T053000Z
SUMMARY:Red Cross - Deerstalkers First Aid Course - $105 pp
LOCATION:7 Target Street\, Pt Chev\, Auckland
DESCRIPTION:https://deerstalkers.co.nz/event-3013998\n\n\n\n
DTSTAMP:20260424T120522Z
END:VEVENT
END:VCALENDAR
