BEGIN:VCALENDAR
VERSION:2.0
METHOD:PUBLISH
BEGIN:VEVENT
UID:WILD_APRICOT_EVENT_2956553_SESSION_1
DTSTART:20180712T070000Z
DTEND:20180712T070000Z
SUMMARY:Hunter Training: Class of '18 with Brent P (session 1 of 7)
LOCATION:
DESCRIPTION:https://deerstalkers.co.nz/event-2956553\n\nHunter Training: Class of '18 with Brent P\n\n  The Hunter Training course for 2018 is about to begin\, registration requires approval from the coordinator\, space is limited so sign up quickly. Below is a list of dates the course is scheduled to run on\, please confirm you are available for signing up.\n \n The following dates and subjects have been confirmed for the hunter training\;\n      *      12th July 7pm. Clubrooms - Gear \n   \n\n        *      19th July 7pm. Clubrooms - Firearms \n   \n\n        *      26th July 7pm. Clubrooms - Bush Skills\n   \n\n        *      2nd August 7pm. Clubrooms - Navigation\n   \n\n        *      9th August 7pm. Clubrooms - Hunting Tech\n   \n\n        *      11th August 9am NZDA Range- Firearms practical. ( this is a Saturday )\n   \n\n        *      16th August 7pm. Clubrooms - Animal Prep \n   \n\n  Weekend away: TBC - We will decide what weekend suits at a later stage. \n\n      * the course is reserved for full financial members \n\n\n        * and is available firstly to those who have not yet had a chance to attend previously.\n\n\n  Mentors: We are looking for suitably experienced senior members interested in helping Brent with the hunting competent of the course\, love hunting? Share the experience and your knowledge\, please inquire with Brent about what is required as a Mentor\, we need you!   \n  \n\n  \n \n\n
DTSTAMP:20260424T124442Z
END:VEVENT
BEGIN:VEVENT
UID:WILD_APRICOT_EVENT_2956553_SESSION_2
DTSTART:20180718T070000Z
DTEND:20180718T070000Z
SUMMARY:Hunter Training: Class of '18 with Brent P (session 2 of 7)
LOCATION:
DESCRIPTION:https://deerstalkers.co.nz/event-2956553\n\nHunter Training: Class of '18 with Brent P\n\n  The Hunter Training course for 2018 is about to begin\, registration requires approval from the coordinator\, space is limited so sign up quickly. Below is a list of dates the course is scheduled to run on\, please confirm you are available for signing up.\n \n The following dates and subjects have been confirmed for the hunter training\;\n      *      12th July 7pm. Clubrooms - Gear \n   \n\n        *      19th July 7pm. Clubrooms - Firearms \n   \n\n        *      26th July 7pm. Clubrooms - Bush Skills\n   \n\n        *      2nd August 7pm. Clubrooms - Navigation\n   \n\n        *      9th August 7pm. Clubrooms - Hunting Tech\n   \n\n        *      11th August 9am NZDA Range- Firearms practical. ( this is a Saturday )\n   \n\n        *      16th August 7pm. Clubrooms - Animal Prep \n   \n\n  Weekend away: TBC - We will decide what weekend suits at a later stage. \n\n      * the course is reserved for full financial members \n\n\n        * and is available firstly to those who have not yet had a chance to attend previously.\n\n\n  Mentors: We are looking for suitably experienced senior members interested in helping Brent with the hunting competent of the course\, love hunting? Share the experience and your knowledge\, please inquire with Brent about what is required as a Mentor\, we need you!   \n  \n\n  \n \n\n
DTSTAMP:20260424T124442Z
END:VEVENT
BEGIN:VEVENT
UID:WILD_APRICOT_EVENT_2956553_SESSION_3
DTSTART:20180726T070000Z
DTEND:20180726T070000Z
SUMMARY:Hunter Training: Class of '18 with Brent P (session 3 of 7)
LOCATION:
DESCRIPTION:https://deerstalkers.co.nz/event-2956553\n\nHunter Training: Class of '18 with Brent P\n\n  The Hunter Training course for 2018 is about to begin\, registration requires approval from the coordinator\, space is limited so sign up quickly. Below is a list of dates the course is scheduled to run on\, please confirm you are available for signing up.\n \n The following dates and subjects have been confirmed for the hunter training\;\n      *      12th July 7pm. Clubrooms - Gear \n   \n\n        *      19th July 7pm. Clubrooms - Firearms \n   \n\n        *      26th July 7pm. Clubrooms - Bush Skills\n   \n\n        *      2nd August 7pm. Clubrooms - Navigation\n   \n\n        *      9th August 7pm. Clubrooms - Hunting Tech\n   \n\n        *      11th August 9am NZDA Range- Firearms practical. ( this is a Saturday )\n   \n\n        *      16th August 7pm. Clubrooms - Animal Prep \n   \n\n  Weekend away: TBC - We will decide what weekend suits at a later stage. \n\n      * the course is reserved for full financial members \n\n\n        * and is available firstly to those who have not yet had a chance to attend previously.\n\n\n  Mentors: We are looking for suitably experienced senior members interested in helping Brent with the hunting competent of the course\, love hunting? Share the experience and your knowledge\, please inquire with Brent about what is required as a Mentor\, we need you!   \n  \n\n  \n \n\n
DTSTAMP:20260424T124442Z
END:VEVENT
BEGIN:VEVENT
UID:WILD_APRICOT_EVENT_2956553_SESSION_4
DTSTART:20180802T070000Z
DTEND:20180802T070000Z
SUMMARY:Hunter Training: Class of '18 with Brent P (session 4 of 7)
LOCATION:
DESCRIPTION:https://deerstalkers.co.nz/event-2956553\n\nHunter Training: Class of '18 with Brent P\n\n  The Hunter Training course for 2018 is about to begin\, registration requires approval from the coordinator\, space is limited so sign up quickly. Below is a list of dates the course is scheduled to run on\, please confirm you are available for signing up.\n \n The following dates and subjects have been confirmed for the hunter training\;\n      *      12th July 7pm. Clubrooms - Gear \n   \n\n        *      19th July 7pm. Clubrooms - Firearms \n   \n\n        *      26th July 7pm. Clubrooms - Bush Skills\n   \n\n        *      2nd August 7pm. Clubrooms - Navigation\n   \n\n        *      9th August 7pm. Clubrooms - Hunting Tech\n   \n\n        *      11th August 9am NZDA Range- Firearms practical. ( this is a Saturday )\n   \n\n        *      16th August 7pm. Clubrooms - Animal Prep \n   \n\n  Weekend away: TBC - We will decide what weekend suits at a later stage. \n\n      * the course is reserved for full financial members \n\n\n        * and is available firstly to those who have not yet had a chance to attend previously.\n\n\n  Mentors: We are looking for suitably experienced senior members interested in helping Brent with the hunting competent of the course\, love hunting? Share the experience and your knowledge\, please inquire with Brent about what is required as a Mentor\, we need you!   \n  \n\n  \n \n\n
DTSTAMP:20260424T124442Z
END:VEVENT
BEGIN:VEVENT
UID:WILD_APRICOT_EVENT_2956553_SESSION_5
DTSTART:20180809T070000Z
DTEND:20180809T070000Z
SUMMARY:Hunter Training: Class of '18 with Brent P (session 5 of 7)
LOCATION:
DESCRIPTION:https://deerstalkers.co.nz/event-2956553\n\nHunter Training: Class of '18 with Brent P\n\n  The Hunter Training course for 2018 is about to begin\, registration requires approval from the coordinator\, space is limited so sign up quickly. Below is a list of dates the course is scheduled to run on\, please confirm you are available for signing up.\n \n The following dates and subjects have been confirmed for the hunter training\;\n      *      12th July 7pm. Clubrooms - Gear \n   \n\n        *      19th July 7pm. Clubrooms - Firearms \n   \n\n        *      26th July 7pm. Clubrooms - Bush Skills\n   \n\n        *      2nd August 7pm. Clubrooms - Navigation\n   \n\n        *      9th August 7pm. Clubrooms - Hunting Tech\n   \n\n        *      11th August 9am NZDA Range- Firearms practical. ( this is a Saturday )\n   \n\n        *      16th August 7pm. Clubrooms - Animal Prep \n   \n\n  Weekend away: TBC - We will decide what weekend suits at a later stage. \n\n      * the course is reserved for full financial members \n\n\n        * and is available firstly to those who have not yet had a chance to attend previously.\n\n\n  Mentors: We are looking for suitably experienced senior members interested in helping Brent with the hunting competent of the course\, love hunting? Share the experience and your knowledge\, please inquire with Brent about what is required as a Mentor\, we need you!   \n  \n\n  \n \n\n
DTSTAMP:20260424T124442Z
END:VEVENT
BEGIN:VEVENT
UID:WILD_APRICOT_EVENT_2956553_SESSION_6
DTSTART:20180810T210000Z
DTEND:20180810T210000Z
SUMMARY:Hunter Training: Class of '18 with Brent P (session 6 of 7)
LOCATION:
DESCRIPTION:https://deerstalkers.co.nz/event-2956553\n\nHunter Training: Class of '18 with Brent P\n\n  The Hunter Training course for 2018 is about to begin\, registration requires approval from the coordinator\, space is limited so sign up quickly. Below is a list of dates the course is scheduled to run on\, please confirm you are available for signing up.\n \n The following dates and subjects have been confirmed for the hunter training\;\n      *      12th July 7pm. Clubrooms - Gear \n   \n\n        *      19th July 7pm. Clubrooms - Firearms \n   \n\n        *      26th July 7pm. Clubrooms - Bush Skills\n   \n\n        *      2nd August 7pm. Clubrooms - Navigation\n   \n\n        *      9th August 7pm. Clubrooms - Hunting Tech\n   \n\n        *      11th August 9am NZDA Range- Firearms practical. ( this is a Saturday )\n   \n\n        *      16th August 7pm. Clubrooms - Animal Prep \n   \n\n  Weekend away: TBC - We will decide what weekend suits at a later stage. \n\n      * the course is reserved for full financial members \n\n\n        * and is available firstly to those who have not yet had a chance to attend previously.\n\n\n  Mentors: We are looking for suitably experienced senior members interested in helping Brent with the hunting competent of the course\, love hunting? Share the experience and your knowledge\, please inquire with Brent about what is required as a Mentor\, we need you!   \n  \n\n  \n \n\n
DTSTAMP:20260424T124442Z
END:VEVENT
BEGIN:VEVENT
UID:WILD_APRICOT_EVENT_2956553_SESSION_7
DTSTART:20180816T070000Z
DTEND:20180816T070000Z
SUMMARY:Hunter Training: Class of '18 with Brent P (session 7 of 7)
LOCATION:
DESCRIPTION:https://deerstalkers.co.nz/event-2956553\n\nHunter Training: Class of '18 with Brent P\n\n  The Hunter Training course for 2018 is about to begin\, registration requires approval from the coordinator\, space is limited so sign up quickly. Below is a list of dates the course is scheduled to run on\, please confirm you are available for signing up.\n \n The following dates and subjects have been confirmed for the hunter training\;\n      *      12th July 7pm. Clubrooms - Gear \n   \n\n        *      19th July 7pm. Clubrooms - Firearms \n   \n\n        *      26th July 7pm. Clubrooms - Bush Skills\n   \n\n        *      2nd August 7pm. Clubrooms - Navigation\n   \n\n        *      9th August 7pm. Clubrooms - Hunting Tech\n   \n\n        *      11th August 9am NZDA Range- Firearms practical. ( this is a Saturday )\n   \n\n        *      16th August 7pm. Clubrooms - Animal Prep \n   \n\n  Weekend away: TBC - We will decide what weekend suits at a later stage. \n\n      * the course is reserved for full financial members \n\n\n        * and is available firstly to those who have not yet had a chance to attend previously.\n\n\n  Mentors: We are looking for suitably experienced senior members interested in helping Brent with the hunting competent of the course\, love hunting? Share the experience and your knowledge\, please inquire with Brent about what is required as a Mentor\, we need you!   \n  \n\n  \n \n\n
DTSTAMP:20260424T124442Z
END:VEVENT
END:VCALENDAR
